BEGIN:VCALENDAR
CALSCALE:GREGORIAN
METHOD:PUBLISH
VERSION:2.0
PRODID:-//iCalWriter OpenSource Project//iCalWriter 0.8.1//EN
BEGIN:VEVENT
DTSTAMP:20260421T082656Z
UID:17767600162IbT@stadthaus.laatzen.de
DTSTART:20211202T153000
DTEND:20211202T173000
SUMMARY:Winterbasteln - abgesagt!
DESCRIPTION:Ein Nachmittag für Eltern mit ihren Kindern im Alter von drei bis sechs Jahren. Geschwisterkinder sind herzlich willkommen.
Dozentin: Claudia Ohnesorge, Sozialpädagogin
Anmeldung: Bei Fragen oder für Anmeldungen melden Sie sich gerne telefonisch unter 0511 8205-5408.
LOCATION:Stadthaus 30880 Laatzen / Laatzen-Mitte
CATEGORIES:Bildung/ Vorträge,Eltern,Frühe Hilfen,Stadthaus
URL:https://stadthaus.laatzen.de/de/veranstaltungen-im-stadthaus/event/131062,1191/winterbasteln---abgesagt-02-12-2021.html
ATTACH:https://stadthaus.laatzen.de/de/datei/anzeigen/id/139907,1191/angel-810165_cmyk_abgesagt.jpg
END:VEVENT
END:VCALENDAR
