BEGIN:VCALENDAR
CALSCALE:GREGORIAN
METHOD:PUBLISH
VERSION:2.0
PRODID:-//iCalWriter OpenSource Project//iCalWriter 0.8.1//EN
BEGIN:VEVENT
DTSTAMP:20260420T062753Z
UID:1776666473VExH@stadthaus.laatzen.de
DTSTART:20201103T150000
DTEND:20201103T170000
SUMMARY:Vorsorgevollmacht und Betreuungsverfügung  
DESCRIPTION:DIE REGION HANNOVER INFORMIERT ÜBER:
– VORSORGEVOLLMACHT
– BETREUUNGSVERFÜGUNG
 
Aufgrund der geltenden Kontaktbeschränkungen ist eine telefonische Anmeldung unter Nummer (0511) 616-23540 erforderlich.
Ratsuchende werden gebeten während des Termins eine Mund-Nasenbedeckung zu tragen.
LOCATION:Stadthaus 30880 Laatzen / Laatzen-Mitte
CATEGORIES:Information,Stadthaus
URL:https://stadthaus.laatzen.de/de/veranstaltungen-im-stadthaus/event/119310,1191/vorsorgevollmacht-und-betreuungsverfuegung---03-11-2020.html
ATTACH:https://stadthaus.laatzen.de/de/datei/anzeigen/id/119311,1191/paragraph_2930552.jpg
END:VEVENT
END:VCALENDAR
